BEGIN:VCALENDAR
VERSION:2.0
PRODID:-//Campus Rütli - ECPv6.15.20//NONSGML v1.0//EN
CALSCALE:GREGORIAN
METHOD:PUBLISH
X-WR-CALNAME:Campus Rütli
X-ORIGINAL-URL:https://campusruetli.de
X-WR-CALDESC:Veranstaltungen für Campus Rütli
REFRESH-INTERVAL;VALUE=DURATION:PT1H
X-Robots-Tag:noindex
X-PUBLISHED-TTL:PT1H
BEGIN:VTIMEZONE
TZID:Europe/Berlin
BEGIN:DAYLIGHT
TZOFFSETFROM:+0100
TZOFFSETTO:+0200
TZNAME:CEST
DTSTART:20200329T010000
END:DAYLIGHT
BEGIN:STANDARD
TZOFFSETFROM:+0200
TZOFFSETTO:+0100
TZNAME:CET
DTSTART:20201025T010000
END:STANDARD
BEGIN:DAYLIGHT
TZOFFSETFROM:+0100
TZOFFSETTO:+0200
TZNAME:CEST
DTSTART:20210328T010000
END:DAYLIGHT
BEGIN:STANDARD
TZOFFSETFROM:+0200
TZOFFSETTO:+0100
TZNAME:CET
DTSTART:20211031T010000
END:STANDARD
BEGIN:DAYLIGHT
TZOFFSETFROM:+0100
TZOFFSETTO:+0200
TZNAME:CEST
DTSTART:20220327T010000
END:DAYLIGHT
BEGIN:STANDARD
TZOFFSETFROM:+0200
TZOFFSETTO:+0100
TZNAME:CET
DTSTART:20221030T010000
END:STANDARD
END:VTIMEZONE
BEGIN:VEVENT
DTSTART;TZID=Europe/Berlin:20211007T190000
DTEND;TZID=Europe/Berlin:20211007T200000
DTSTAMP:20260420T102017
CREATED:20210701T090707Z
LAST-MODIFIED:20210929T101739Z
UID:8891-1633633200-1633636800@campusruetli.de
SUMMARY:monatliche Videosprechstunde der Grundstufenleitung
DESCRIPTION:Gemeinschaftsschule auf dem Campus Rütli \nAm 7. Oktober 2021 von 19.00 bis 20.oo Uhr findet die monatliche Videosprechstunde der Grundstufenleitung für Eltern der Grundstufe statt. Die Zugangsdaten erhalten alle Eltern per Elternbrief.
URL:https://campusruetli.de/veranstaltungen/videosprechstunde-grundstufenleitung-oktober/
CATEGORIES:Gemeinschaftsschule
ATTACH;FMTTYPE=image/png:https://campusruetli.de/wp-content/uploads/2020/06/Flächen.png
ORGANIZER;CN="Schulleitung":MAILTO:mail@mail.de
END:VEVENT
END:VCALENDAR